BEGIN:VCALENDAR
VERSION:2.0
PRODID:-//wp-events-plugin.com//7.2.3.1//EN
TZID:Europe/Berlin
X-WR-TIMEZONE:Europe/Berlin
BEGIN:VEVENT
UID:87@lz05.de
DTSTART;TZID=Europe/Berlin:20190924T193000
DTEND;TZID=Europe/Berlin:20190924T223000
DTSTAMP:20190617T124553Z
URL:https://lz05.de/events/abc-schulung-messfahrten-online-u-abgesetzt/
SUMMARY:ABC Schulung: Messfahrten online u. abgesetzt
DESCRIPTION:
CATEGORIES:Dienstabend
LOCATION:GH Gievenbeck\, Bernings Kotten 16\, Münster\, 48161\, Deutschlan
 d
GEO:51.9598181;7.571845199999984
X-APPLE-STRUCTURED-LOCATION;VALUE=URI;X-ADDRESS=Bernings Kotten 16\, Münst
 er\, 48161\, Deutschland;X-APPLE-RADIUS=100;X-TITLE=GH Gievenbeck:geo:51.9
 598181,7.571845199999984
END:VEVENT
BEGIN:VTIMEZONE
TZID:Europe/Berlin
X-LIC-LOCATION:Europe/Berlin
BEGIN:DAYLIGHT
DTSTART:20190331T030000
TZOFFSETFROM:+0100
TZOFFSETTO:+0200
TZNAME:CEST
END:DAYLIGHT
END:VTIMEZONE
END:VCALENDAR