BEGIN:VCALENDAR
VERSION:2.0
PRODID:-//wp-events-plugin.com//7.2.3.1//EN
TZID:Europe/Berlin
X-WR-TIMEZONE:Europe/Berlin
BEGIN:VEVENT
UID:214@lz05.de
DTSTART;TZID=Europe/Berlin:20250722T193000
DTEND;TZID=Europe/Berlin:20250722T220000
DTSTAMP:20241216T131324Z
URL:https://lz05.de/events/anlagenpflege-gruppe-3-2/
SUMMARY:Anlagenpflege Gruppe 3
DESCRIPTION:\n\n\nMartin\nFallbrock\n\n\nLeni\nHarder\n\n\nThomas\nHemker\n
 \n\nRichard\nKintrup\n\n\nAlexander\nKreuzheck\n\n\nPhilipp\nLübbering\n\
 n\nNils\nPöppelmann\n\n\nMarvin\nSchön\n\n\nMika\nVorholt\n\n\nGeorg\nWe
 hnert\n\n\nEdda\nTacke\n\n\n
CATEGORIES:Sondertermin
LOCATION:GH Gievenbeck\, Bernings Kotten 16\, Münster\, 48161\, Deutschlan
 d
GEO:51.9598181;7.571845199999984
X-APPLE-STRUCTURED-LOCATION;VALUE=URI;X-ADDRESS=Bernings Kotten 16\, Münst
 er\, 48161\, Deutschland;X-APPLE-RADIUS=100;X-TITLE=GH Gievenbeck:geo:51.9
 598181,7.571845199999984
END:VEVENT
BEGIN:VTIMEZONE
TZID:Europe/Berlin
X-LIC-LOCATION:Europe/Berlin
BEGIN:DAYLIGHT
DTSTART:20250330T030000
TZOFFSETFROM:+0100
TZOFFSETTO:+0200
TZNAME:CEST
END:DAYLIGHT
END:VTIMEZONE
END:VCALENDAR