BEGIN:VCALENDAR
VERSION:2.0
PRODID:-//wp-events-plugin.com//7.2.3.1//EN
TZID:Europe/Berlin
X-WR-TIMEZONE:Europe/Berlin
BEGIN:VEVENT
UID:61@lz05.de
DTSTART;TZID=Europe/Amsterdam:20190124T200000
DTEND;TZID=Europe/Amsterdam:20190124T223000
DTSTAMP:20181124T100721Z
URL:https://lz05.de/events/delegiertenversammlung-std-fw-verband/
SUMMARY:Delegiertenversammlung Std-Fw-Verband
DESCRIPTION:
CATEGORIES:Sondertermin
END:VEVENT
BEGIN:VTIMEZONE
TZID:Europe/Amsterdam
X-LIC-LOCATION:Europe/Amsterdam
BEGIN:STANDARD
DTSTART:20181028T020000
TZOFFSETFROM:+0200
TZOFFSETTO:+0100
TZNAME:CET
END:STANDARD
END:VTIMEZONE
END:VCALENDAR