BEGIN:VCALENDAR
VERSION:2.0
PRODID:-//wp-events-plugin.com//7.2.3.1//EN
TZID:Europe/Berlin
X-WR-TIMEZONE:Europe/Berlin
BEGIN:VEVENT
UID:10@lz05.de
DTSTART;TZID=Europe/Amsterdam:20181106T193000
DTEND;TZID=Europe/Amsterdam:20181106T220000
DTSTAMP:20180808T155750Z
URL:https://lz05.de/events/erste-hilfe-theorie-3/
SUMMARY:Erste Hilfe – Theorie
DESCRIPTION:
CATEGORIES:Dienstabend
LOCATION:GH Gievenbeck\, Bernings Kotten 16\, Münster\, 48161\, Deutschlan
 d
GEO:51.9598181;7.571845199999984
X-APPLE-STRUCTURED-LOCATION;VALUE=URI;X-ADDRESS=Bernings Kotten 16\, Münst
 er\, 48161\, Deutschland;X-APPLE-RADIUS=100;X-TITLE=GH Gievenbeck:geo:51.9
 598181,7.571845199999984
END:VEVENT
BEGIN:VTIMEZONE
TZID:Europe/Amsterdam
X-LIC-LOCATION:Europe/Amsterdam
BEGIN:STANDARD
DTSTART:20181028T020000
TZOFFSETFROM:+0200
TZOFFSETTO:+0100
TZNAME:CET
END:STANDARD
END:VTIMEZONE
END:VCALENDAR