BEGIN:VCALENDAR
VERSION:2.0
PRODID:-//wp-events-plugin.com//7.2.3.1//EN
TZID:Europe/Berlin
X-WR-TIMEZONE:Europe/Berlin
BEGIN:VEVENT
UID:75@lz05.de
DTSTART;TZID=Europe/Berlin:20190318T183000
DTEND;TZID=Europe/Berlin:20190318T220000
DTSTAMP:20190109T182405Z
URL:https://lz05.de/events/geraetewartsitzung-2/
SUMMARY:Gerätewartsitzung
DESCRIPTION:
CATEGORIES:Sondertermin
LOCATION:Wache 1\, York-Ring 25\, Münster\, 48159\, Deutschland
GEO:51.9745;7.611059999999952
X-APPLE-STRUCTURED-LOCATION;VALUE=URI;X-ADDRESS=York-Ring 25\, Münster\, 4
 8159\, Deutschland;X-APPLE-RADIUS=100;X-TITLE=Wache 1:geo:51.9745,7.611059
 999999952
END:VEVENT
BEGIN:VTIMEZONE
TZID:Europe/Berlin
X-LIC-LOCATION:Europe/Berlin
BEGIN:STANDARD
DTSTART:20181028T020000
TZOFFSETFROM:+0200
TZOFFSETTO:+0100
TZNAME:CET
END:STANDARD
END:VTIMEZONE
END:VCALENDAR